Package: triplex Version: 1.49.0 Command: rm -rf triplex.buildbin-libdir && mkdir triplex.buildbin-libdir && F:\biocbuild\bbs-3.22-bioc\R\bin\R.exe CMD INSTALL --build --library=triplex.buildbin-libdir triplex_1.49.0.tar.gz StartedAt: 2025-08-15 11:32:27 -0400 (Fri, 15 Aug 2025) EndedAt: 2025-08-15 11:33:40 -0400 (Fri, 15 Aug 2025) EllapsedTime: 73.5 seconds RetCode: 0 Status: OK PackageFile: triplex_1.49.0.zip PackageFileSize: 816.2 KiB