Package: triplex Version: 1.49.0 Command: /home/biocbuild/bbs-3.22-bioc/R/bin/R CMD INSTALL triplex StartedAt: 2025-10-01 15:44:34 -0400 (Wed, 01 Oct 2025) EndedAt: 2025-10-01 15:44:53 -0400 (Wed, 01 Oct 2025) EllapsedTime: 18.4 seconds RetCode: 0 Status: OK