Package: trio Version: 3.47.0 Command: chmod a+r trio -R && F:\biocbuild\bbs-3.22-bioc\R\bin\R.exe CMD build --keep-empty-dirs --no-resave-data trio StartedAt: 2025-08-14 23:51:37 -0400 (Thu, 14 Aug 2025) EndedAt: 2025-08-14 23:53:02 -0400 (Thu, 14 Aug 2025) EllapsedTime: 84.8 seconds RetCode: 0 Status: OK PackageFile: trio_3.47.0.tar.gz PackageFileSize: 695.2 KiB