Package: trigger Version: 1.53.0 Command: rm -rf trigger.buildbin-libdir && mkdir trigger.buildbin-libdir && E:\biocbuild\bbs-3.21-bioc\R\bin\R.exe CMD INSTALL --build --library=trigger.buildbin-libdir trigger_1.53.0.tar.gz StartedAt: 2025-01-22 08:46:44 -0500 (Wed, 22 Jan 2025) EndedAt: 2025-01-22 08:47:32 -0500 (Wed, 22 Jan 2025) EllapsedTime: 48.5 seconds RetCode: 0 Status: OK PackageFile: trigger_1.53.0.zip PackageFileSize: 2.082 MiB