Package: trigger Version: 1.53.0 Command: /home/biocbuild/bbs-3.21-bioc/R/bin/R CMD INSTALL trigger StartedAt: 2025-02-21 16:09:11 -0500 (Fri, 21 Feb 2025) EndedAt: 2025-02-21 16:09:12 -0500 (Fri, 21 Feb 2025) EllapsedTime: 1.0 seconds RetCode: 1 Status: ERROR