Package: trigger Version: 1.53.0 Command: /home/biocbuild/R/R/bin/R CMD INSTALL trigger StartedAt: 2025-01-29 20:22:17 -0000 (Wed, 29 Jan 2025) EndedAt: 2025-01-29 20:22:19 -0000 (Wed, 29 Jan 2025) EllapsedTime: 1.9 seconds RetCode: 1 Status: ERROR