Package: treekoR Version: 1.17.0 Command: /home/biocbuild/R/R/bin/R CMD INSTALL treekoR StartedAt: 2025-10-02 20:44:30 -0000 (Thu, 02 Oct 2025) EndedAt: 2025-10-02 20:45:30 -0000 (Thu, 02 Oct 2025) EllapsedTime: 59.6 seconds RetCode: 0 Status: OK