Package: treekoR Version: 1.17.0 Command: /home/biocbuild/R/R/bin/R CMD build --keep-empty-dirs --no-resave-data treekoR StartedAt: 2025-10-03 03:57:27 -0000 (Fri, 03 Oct 2025) EndedAt: 2025-10-03 03:59:22 -0000 (Fri, 03 Oct 2025) EllapsedTime: 115.1 seconds RetCode: 0 Status: OK PackageFile: treekoR_1.17.0.tar.gz PackageFileSize: 1.639 MiB