Package: treeclimbR Version: 1.5.1 Command: /home/biocbuild/R/R/bin/R CMD INSTALL treeclimbR StartedAt: 2025-10-06 20:45:39 -0000 (Mon, 06 Oct 2025) EndedAt: 2025-10-06 20:46:28 -0000 (Mon, 06 Oct 2025) EllapsedTime: 48.9 seconds RetCode: 0 Status: OK