Package: treeclimbR Version: 1.5.1 Command: /home/biocbuild/R/R/bin/R CMD build --keep-empty-dirs --no-resave-data treeclimbR StartedAt: 2025-10-07 03:39:45 -0000 (Tue, 07 Oct 2025) EndedAt: 2025-10-07 03:41:16 -0000 (Tue, 07 Oct 2025) EllapsedTime: 91.1 seconds RetCode: 0 Status: OK PackageFile: treeclimbR_1.5.1.tar.gz PackageFileSize: 606.3 KiB