Package: treeclimbR Version: 1.5.1 Command: /home/biocbuild/bbs-3.22-bioc/R/bin/R CMD check --install=check:treeclimbR.install-out.txt --library=/home/biocbuild/bbs-3.22-bioc/R/site-library --timings treeclimbR_1.5.1.tar.gz StartedAt: 2025-10-21 05:46:02 -0400 (Tue, 21 Oct 2025) EndedAt: 2025-10-21 05:52:30 -0400 (Tue, 21 Oct 2025) EllapsedTime: 388.4 seconds RetCode: 0 Status: OK CheckDir: treeclimbR.Rcheck Warnings: 0