Package: treeclimbR Version: 1.3.1 Command: /home/biocbuild/bbs-3.21-bioc/R/bin/R CMD INSTALL treeclimbR StartedAt: 2025-02-03 15:39:27 -0500 (Mon, 03 Feb 2025) EndedAt: 2025-02-03 15:40:01 -0500 (Mon, 03 Feb 2025) EllapsedTime: 34.0 seconds RetCode: 0 Status: OK