Package: treeclimbR Version: 1.3.1 Command: /Library/Frameworks/R.framework/Resources/bin/R CMD check --install=check:treeclimbR.install-out.txt --library=/Library/Frameworks/R.framework/Resources/library --no-vignettes --timings treeclimbR_1.3.1.tar.gz StartedAt: 2025-02-03 23:54:05 -0500 (Mon, 03 Feb 2025) EndedAt: 2025-02-04 00:00:45 -0500 (Tue, 04 Feb 2025) EllapsedTime: 399.4 seconds RetCode: 0 Status: OK CheckDir: treeclimbR.Rcheck Warnings: 0