Package: treeclimbR Version: 1.3.1 Command: /home/biocbuild/R/R/bin/R CMD INSTALL treeclimbR StartedAt: 2025-01-29 20:34:17 -0000 (Wed, 29 Jan 2025) EndedAt: 2025-01-29 20:35:08 -0000 (Wed, 29 Jan 2025) EllapsedTime: 51.3 seconds RetCode: 0 Status: OK