Package: treeclimbR Version: 1.3.1 Command: rm -rf treeclimbR.buildbin-libdir && mkdir treeclimbR.buildbin-libdir && /Users/biocbuild/BBS/utils/build-universal.sh treeclimbR_1.3.1.tar.gz /Library/Frameworks/R.framework/Resources/bin/R treeclimbR.buildbin-libdir StartedAt: 2025-02-03 23:09:40 -0500 (Mon, 03 Feb 2025) EndedAt: 2025-02-03 23:09:55 -0500 (Mon, 03 Feb 2025) EllapsedTime: 15.3 seconds RetCode: 0 Status: OK PackageFile: treeclimbR_1.3.1.tgz PackageFileSize: 893.2 KiB