Package: traviz Version: 1.13.0 Command: E:\biocbuild\bbs-3.21-bioc\R\bin\R.exe CMD check --no-multiarch --install=check:traviz.install-out.txt --library=E:\biocbuild\bbs-3.21-bioc\R\library --no-vignettes --timings traviz_1.13.0.tar.gz StartedAt: 2025-02-04 06:44:43 -0500 (Tue, 04 Feb 2025) EndedAt: 2025-02-04 06:48:59 -0500 (Tue, 04 Feb 2025) EllapsedTime: 255.9 seconds RetCode: 0 Status: OK CheckDir: traviz.Rcheck Warnings: 0