Package: traviz Version: 1.13.0 Command: chmod a+r traviz -R && E:\biocbuild\bbs-3.21-bioc\R\bin\R.exe CMD build --keep-empty-dirs --no-resave-data traviz StartedAt: 2025-02-03 22:22:47 -0500 (Mon, 03 Feb 2025) EndedAt: 2025-02-03 22:23:47 -0500 (Mon, 03 Feb 2025) EllapsedTime: 59.9 seconds RetCode: 0 Status: OK PackageFile: traviz_1.13.0.tar.gz PackageFileSize: 1.931 MiB