Package: traviz Version: 1.13.0 Command: rm -rf traviz.buildbin-libdir && mkdir traviz.buildbin-libdir && E:\biocbuild\bbs-3.21-bioc\R\bin\R.exe CMD INSTALL --build --library=traviz.buildbin-libdir traviz_1.13.0.tar.gz StartedAt: 2025-02-04 09:07:13 -0500 (Tue, 04 Feb 2025) EndedAt: 2025-02-04 09:07:49 -0500 (Tue, 04 Feb 2025) EllapsedTime: 36.0 seconds RetCode: 0 Status: OK PackageFile: traviz_1.13.0.zip PackageFileSize: 2.004 MiB