Package: traviz Version: 1.13.0 Command: /home/biocbuild/bbs-3.21-bioc/R/bin/R CMD check --install=check:traviz.install-out.txt --library=/home/biocbuild/bbs-3.21-bioc/R/site-library --timings traviz_1.13.0.tar.gz StartedAt: 2025-02-06 03:31:43 -0500 (Thu, 06 Feb 2025) EndedAt: 2025-02-06 03:35:48 -0500 (Thu, 06 Feb 2025) EllapsedTime: 245.3 seconds RetCode: 1 Status: ERROR CheckDir: traviz.Rcheck Warnings: NA