Package: traviz Version: 1.13.0 Command: /home/biocbuild/bbs-3.21-bioc/R/bin/R CMD build --keep-empty-dirs --no-resave-data traviz StartedAt: 2025-02-05 19:39:22 -0500 (Wed, 05 Feb 2025) EndedAt: 2025-02-05 19:40:09 -0500 (Wed, 05 Feb 2025) EllapsedTime: 47.1 seconds RetCode: 0 Status: OK PackageFile: traviz_1.13.0.tar.gz PackageFileSize: 3.142 MiB