Package: traviz Version: 1.13.0 Command: /Library/Frameworks/R.framework/Resources/bin/R CMD INSTALL traviz StartedAt: 2025-02-03 15:29:00 -0500 (Mon, 03 Feb 2025) EndedAt: 2025-02-03 15:29:35 -0500 (Mon, 03 Feb 2025) EllapsedTime: 34.8 seconds RetCode: 0 Status: OK