Package: traviz Version: 1.13.0 Command: rm -rf traviz.buildbin-libdir && mkdir traviz.buildbin-libdir && /Users/biocbuild/BBS/utils/build-universal.sh traviz_1.13.0.tar.gz /Library/Frameworks/R.framework/Resources/bin/R traviz.buildbin-libdir StartedAt: 2025-02-04 01:01:05 -0500 (Tue, 04 Feb 2025) EndedAt: 2025-02-04 01:01:42 -0500 (Tue, 04 Feb 2025) EllapsedTime: 37.0 seconds RetCode: 0 Status: OK PackageFile: traviz_1.13.0.tgz PackageFileSize: 3.706 MiB