Package: traviz Version: 1.13.0 Command: /home/biocbuild/R/R/bin/R CMD INSTALL traviz StartedAt: 2025-01-29 20:04:55 -0000 (Wed, 29 Jan 2025) EndedAt: 2025-01-29 20:05:31 -0000 (Wed, 29 Jan 2025) EllapsedTime: 35.8 seconds RetCode: 0 Status: OK