Package: traviz Version: 1.13.0 Command: /Library/Frameworks/R.framework/Resources/bin/R CMD INSTALL traviz StartedAt: 2025-02-03 15:49:53 -0500 (Mon, 03 Feb 2025) EndedAt: 2025-02-03 15:50:03 -0500 (Mon, 03 Feb 2025) EllapsedTime: 9.9 seconds RetCode: 0 Status: OK