Package: traviz Version: 1.13.0 Command: /Library/Frameworks/R.framework/Resources/bin/R CMD build --keep-empty-dirs --no-resave-data traviz StartedAt: 2025-02-03 18:26:46 -0500 (Mon, 03 Feb 2025) EndedAt: 2025-02-03 18:27:06 -0500 (Mon, 03 Feb 2025) EllapsedTime: 19.2 seconds RetCode: 0 Status: OK PackageFile: traviz_1.13.0.tar.gz PackageFileSize: 3.639 MiB