Package: traseR Version: 1.39.0 Command: chmod a+r traseR -R && F:\biocbuild\bbs-3.22-bioc\R\bin\R.exe CMD build --keep-empty-dirs --no-resave-data traseR StartedAt: 2025-08-14 23:50:45 -0400 (Thu, 14 Aug 2025) EndedAt: 2025-08-14 23:51:54 -0400 (Thu, 14 Aug 2025) EllapsedTime: 68.9 seconds RetCode: 0 Status: OK PackageFile: traseR_1.39.0.tar.gz PackageFileSize: 6.223 MiB