Package: transomics2cytoscape Version: 1.19.0 Command: chmod a+r transomics2cytoscape -R && F:\biocbuild\bbs-3.22-bioc\R\bin\R.exe CMD build --keep-empty-dirs --no-resave-data transomics2cytoscape StartedAt: 2025-08-14 23:50:22 -0400 (Thu, 14 Aug 2025) EndedAt: 2025-08-14 23:50:49 -0400 (Thu, 14 Aug 2025) EllapsedTime: 26.9 seconds RetCode: 0 Status: OK PackageFile: transomics2cytoscape_1.19.0.tar.gz PackageFileSize: 11.82 MiB