Package: transomics2cytoscape Version: 1.17.0 Command: /Library/Frameworks/R.framework/Resources/bin/R CMD INSTALL transomics2cytoscape StartedAt: 2025-02-04 15:30:24 -0500 (Tue, 04 Feb 2025) EndedAt: 2025-02-04 15:30:29 -0500 (Tue, 04 Feb 2025) EllapsedTime: 5.4 seconds RetCode: 0 Status: OK