Package: transomics2cytoscape Version: 1.19.0 Command: /Library/Frameworks/R.framework/Resources/bin/R CMD build --keep-empty-dirs --no-resave-data transomics2cytoscape StartedAt: 2025-05-09 17:59:35 -0400 (Fri, 09 May 2025) EndedAt: 2025-05-09 17:59:40 -0400 (Fri, 09 May 2025) EllapsedTime: 5.1 seconds RetCode: 0 Status: OK PackageFile: transomics2cytoscape_1.19.0.tar.gz PackageFileSize: 11.82 MiB