Package: transomics2cytoscape Version: 1.19.0 Command: rm -rf transomics2cytoscape.buildbin-libdir && mkdir transomics2cytoscape.buildbin-libdir && /Users/biocbuild/BBS/utils/build-universal.sh transomics2cytoscape_1.19.0.tar.gz /Library/Frameworks/R.framework/Resources/bin/R transomics2cytoscape.buildbin-libdir StartedAt: 2025-05-09 23:00:57 -0400 (Fri, 09 May 2025) EndedAt: 2025-05-09 23:01:00 -0400 (Fri, 09 May 2025) EllapsedTime: 3.0 seconds RetCode: 0 Status: OK PackageFile: transomics2cytoscape_1.19.0.tgz PackageFileSize: 11.85 MiB