Package: transmogR Version: 1.3.0 Command: E:\biocbuild\bbs-3.21-bioc\R\bin\R.exe CMD INSTALL transmogR StartedAt: 2025-02-03 16:51:39 -0500 (Mon, 03 Feb 2025) EndedAt: 2025-02-03 16:52:31 -0500 (Mon, 03 Feb 2025) EllapsedTime: 52.3 seconds RetCode: 0 Status: OK