Package: transmogR Version: 1.3.0 Command: chmod a+r transmogR -R && E:\biocbuild\bbs-3.21-bioc\R\bin\R.exe CMD build --keep-empty-dirs --no-resave-data transmogR StartedAt: 2025-02-03 22:22:01 -0500 (Mon, 03 Feb 2025) EndedAt: 2025-02-03 22:23:50 -0500 (Mon, 03 Feb 2025) EllapsedTime: 109.0 seconds RetCode: 0 Status: OK PackageFile: transmogR_1.3.0.tar.gz PackageFileSize: 535.3 KiB