Package: transmogR Version: 1.5.2 Command: /home/biocbuild/bbs-3.22-bioc/R/bin/R CMD INSTALL transmogR StartedAt: 2025-10-08 15:54:19 -0400 (Wed, 08 Oct 2025) EndedAt: 2025-10-08 15:55:14 -0400 (Wed, 08 Oct 2025) EllapsedTime: 55.1 seconds RetCode: 0 Status: OK