Package: transmogR Version: 1.5.2 Command: /home/biocbuild/bbs-3.22-bioc/R/bin/R CMD build --keep-empty-dirs --no-resave-data --md5 transmogR StartedAt: 2025-10-08 20:59:00 -0400 (Wed, 08 Oct 2025) EndedAt: 2025-10-08 21:00:19 -0400 (Wed, 08 Oct 2025) EllapsedTime: 79.1 seconds RetCode: 0 Status: OK PackageFile: transmogR_1.5.2.tar.gz PackageFileSize: 584.1 KiB