Package: transmogR Version: 1.3.0 Command: /home/biocbuild/bbs-3.21-bioc/R/bin/R CMD build --keep-empty-dirs --no-resave-data transmogR StartedAt: 2025-02-03 19:47:25 -0500 (Mon, 03 Feb 2025) EndedAt: 2025-02-03 19:48:37 -0500 (Mon, 03 Feb 2025) EllapsedTime: 72.1 seconds RetCode: 0 Status: OK PackageFile: transmogR_1.3.0.tar.gz PackageFileSize: 568.2 KiB