Package: transmogR Version: 1.3.0 Command: /home/biocbuild/R/R/bin/R CMD INSTALL transmogR StartedAt: 2025-01-29 19:56:15 -0000 (Wed, 29 Jan 2025) EndedAt: 2025-01-29 19:57:08 -0000 (Wed, 29 Jan 2025) EllapsedTime: 53.8 seconds RetCode: 0 Status: OK