Package: transformGamPoi Version: 1.15.0 Command: /Library/Frameworks/R.framework/Resources/bin/R CMD INSTALL transformGamPoi StartedAt: 2025-05-18 15:23:56 -0400 (Sun, 18 May 2025) EndedAt: 2025-05-18 15:24:11 -0400 (Sun, 18 May 2025) EllapsedTime: 14.4 seconds RetCode: 0 Status: OK