Package: transcriptogramer Version: 1.31.0 Command: /home/biocbuild/R/R/bin/R CMD build --keep-empty-dirs --no-resave-data transcriptogramer StartedAt: 2025-10-21 03:49:22 -0000 (Tue, 21 Oct 2025) EndedAt: 2025-10-21 04:09:57 -0000 (Tue, 21 Oct 2025) EllapsedTime: 1234.7 seconds RetCode: 0 Status: OK PackageFile: transcriptogramer_1.31.0.tar.gz PackageFileSize: 3.656 MiB