Package: transcriptogramer Version: 1.31.0 Command: /Library/Frameworks/R.framework/Resources/bin/R CMD INSTALL transcriptogramer StartedAt: 2025-07-25 15:33:09 -0400 (Fri, 25 Jul 2025) EndedAt: 2025-07-25 15:33:44 -0400 (Fri, 25 Jul 2025) EllapsedTime: 34.8 seconds RetCode: 0 Status: OK