Package: transcriptR Version: 1.37.0 Command: /home/biocbuild/R/R/bin/R CMD INSTALL transcriptR StartedAt: 2025-10-16 22:19:36 -0000 (Thu, 16 Oct 2025) EndedAt: 2025-10-16 22:20:42 -0000 (Thu, 16 Oct 2025) EllapsedTime: 65.4 seconds RetCode: 0 Status: OK