Package: transcriptR Version: 1.37.0 Command: /home/biocbuild/R/R/bin/R CMD build --keep-empty-dirs --no-resave-data transcriptR StartedAt: 2025-10-17 05:18:42 -0000 (Fri, 17 Oct 2025) EndedAt: 2025-10-17 05:20:40 -0000 (Fri, 17 Oct 2025) EllapsedTime: 118.1 seconds RetCode: 0 Status: OK PackageFile: transcriptR_1.37.0.tar.gz PackageFileSize: 3.404 MiB