Package: transcriptR Version: 1.37.0 Command: /Library/Frameworks/R.framework/Resources/bin/R CMD INSTALL transcriptR StartedAt: 2025-05-09 15:43:45 -0400 (Fri, 09 May 2025) EndedAt: 2025-05-09 15:44:49 -0400 (Fri, 09 May 2025) EllapsedTime: 64.3 seconds RetCode: 0 Status: OK