Package: tradeSeq Version: 1.23.0 Command: chmod a+r tradeSeq -R && F:\biocbuild\bbs-3.22-bioc\R\bin\R.exe CMD build --keep-empty-dirs --no-resave-data tradeSeq StartedAt: 2025-08-14 23:48:53 -0400 (Thu, 14 Aug 2025) EndedAt: 2025-08-14 23:56:37 -0400 (Thu, 14 Aug 2025) EllapsedTime: 464.2 seconds RetCode: 1 Status: ERROR PackageFile: None PackageFileSize: NA