Package: tracktables Version: 1.43.0 Command: chmod a+r tracktables -R && F:\biocbuild\bbs-3.22-bioc\R\bin\R.exe CMD build --keep-empty-dirs --no-resave-data tracktables StartedAt: 2025-08-14 23:48:35 -0400 (Thu, 14 Aug 2025) EndedAt: 2025-08-14 23:49:11 -0400 (Thu, 14 Aug 2025) EllapsedTime: 35.2 seconds RetCode: 0 Status: OK PackageFile: tracktables_1.43.0.tar.gz PackageFileSize: 357.5 KiB