Package: trackViewer Version: 1.45.2 Command: /home/biocbuild/R/R/bin/R CMD build --keep-empty-dirs --no-resave-data trackViewer StartedAt: 2025-10-21 03:48:39 -0000 (Tue, 21 Oct 2025) EndedAt: 2025-10-21 04:07:09 -0000 (Tue, 21 Oct 2025) EllapsedTime: 1109.4 seconds RetCode: 0 Status: OK PackageFile: trackViewer_1.45.2.tar.gz PackageFileSize: 6.652 MiB