Package: trackViewer Version: 1.45.2 Command: rm -rf trackViewer.buildbin-libdir && mkdir trackViewer.buildbin-libdir && F:\biocbuild\bbs-3.22-bioc\R\bin\R.exe CMD INSTALL --build --library=trackViewer.buildbin-libdir trackViewer_1.45.2.tar.gz StartedAt: 2025-08-15 11:31:14 -0400 (Fri, 15 Aug 2025) EndedAt: 2025-08-15 11:33:42 -0400 (Fri, 15 Aug 2025) EllapsedTime: 148.6 seconds RetCode: 0 Status: OK PackageFile: trackViewer_1.45.2.zip PackageFileSize: 6.337 MiB