Package: tpSVG Version: 1.5.0 Command: rm -rf tpSVG.buildbin-libdir && mkdir tpSVG.buildbin-libdir && F:\biocbuild\bbs-3.22-bioc\R\bin\R.exe CMD INSTALL --build --library=tpSVG.buildbin-libdir tpSVG_1.5.0.tar.gz StartedAt: 2025-08-15 11:31:08 -0400 (Fri, 15 Aug 2025) EndedAt: 2025-08-15 11:31:37 -0400 (Fri, 15 Aug 2025) EllapsedTime: 29.4 seconds RetCode: 0 Status: OK PackageFile: tpSVG_1.5.0.zip PackageFileSize: 1.245 MiB