Package: topdownr Version: 1.31.0 Command: /home/biocbuild/bbs-3.22-bioc/R/bin/R CMD INSTALL topdownr StartedAt: 2025-10-03 15:35:58 -0400 (Fri, 03 Oct 2025) EndedAt: 2025-10-03 15:36:44 -0400 (Fri, 03 Oct 2025) EllapsedTime: 45.9 seconds RetCode: 0 Status: OK