Package: topconfects Version: 1.25.0 Command: /home/biocbuild/R/R/bin/R CMD build --keep-empty-dirs --no-resave-data topconfects StartedAt: 2025-10-07 03:35:30 -0000 (Tue, 07 Oct 2025) EndedAt: 2025-10-07 03:38:18 -0000 (Tue, 07 Oct 2025) EllapsedTime: 168.1 seconds RetCode: 0 Status: OK PackageFile: topconfects_1.25.0.tar.gz PackageFileSize: 1.494 MiB