Package: topconfects Version: 1.23.2 Command: E:\biocbuild\bbs-3.21-bioc\R\bin\R.exe CMD check --no-multiarch --install=check:topconfects.install-out.txt --library=E:\biocbuild\bbs-3.21-bioc\R\library --no-vignettes --timings topconfects_1.23.2.tar.gz StartedAt: 2025-02-06 06:43:02 -0500 (Thu, 06 Feb 2025) EndedAt: 2025-02-06 06:44:42 -0500 (Thu, 06 Feb 2025) EllapsedTime: 99.8 seconds RetCode: 0 Status: OK CheckDir: topconfects.Rcheck Warnings: 0